BEGIN:VCALENDAR
VERSION:2.0
PRODID:-//www.pvosoest.nl//NONSGML PVO Soest//EN
CALSCALE:GREGORIAN
BEGIN:VEVENT
DESCRIPTION:
DTEND;TZID="Europe/Amsterdam":20260427T110000
DTSTART;TZID="Europe/Amsterdam":20260427T090000
LOCATION:Banketbakkerij Lex Verkley, Van Weedestraat
SUMMARY:Koningsdag 2026
URL;VALUE=URI:https://www.pvosoest.nl/agenda/8/koningsdag-2026
DTSTAMP;TZID="Europe/Amsterdam":20260422T161823
UID:69e8d8af5bd7a
END:VEVENT
END:VCALENDAR
