BEGIN:VCALENDAR
VERSION:2.0
PRODID:-//www.pvosoest.nl//NONSGML PVO Soest//EN
CALSCALE:GREGORIAN
BEGIN:VEVENT
DESCRIPTION:
DTEND;TZID="Europe/Amsterdam":20260505T220000
DTSTART;TZID="Europe/Amsterdam":20260505T193000
LOCATION:Cultureel en Congres Centrum De Rank, Soesterbergsestraat 18, Soest
SUMMARY:Bevrijdingsconcert 2026
URL;VALUE=URI:https://www.pvosoest.nl/agenda/8/bevrijdingsconcert-2026
DTSTAMP;TZID="Europe/Amsterdam":20260422T201639
UID:69e9108781648
END:VEVENT
END:VCALENDAR
